BEGIN:VCALENDAR
VERSION:2.0
PRODID:-//Fahrschule Boost - ECPv6.10.0//NONSGML v1.0//EN
CALSCALE:GREGORIAN
METHOD:PUBLISH
X-WR-CALNAME:Fahrschule Boost
X-ORIGINAL-URL:https://fahrschule-boost.de
X-WR-CALDESC:Veranstaltungen für Fahrschule Boost
REFRESH-INTERVAL;VALUE=DURATION:PT1H
X-Robots-Tag:noindex
X-PUBLISHED-TTL:PT1H
BEGIN:VTIMEZONE
TZID:Europe/Berlin
BEGIN:DAYLIGHT
TZOFFSETFROM:+0100
TZOFFSETTO:+0200
TZNAME:CEST
DTSTART:20250330T010000
END:DAYLIGHT
BEGIN:STANDARD
TZOFFSETFROM:+0200
TZOFFSETTO:+0100
TZNAME:CET
DTSTART:20251026T010000
END:STANDARD
END:VTIMEZONE
BEGIN:VEVENT
DTSTART;TZID=Europe/Berlin:20251122T100000
DTEND;TZID=Europe/Berlin:20251122T131500
DTSTAMP:20260426T063801
CREATED:20251001T122632Z
LAST-MODIFIED:20251001T122632Z
UID:8448-1763805600-1763817300@fahrschule-boost.de
SUMMARY:Grundstoff Thema 11 + 12
DESCRIPTION:Thema 11: Verhalten in besonderen Situationen\nThema 12: Sicherheit durch Weiterlernen
URL:https://fahrschule-boost.de/event/grundstoff-thema-11-12-2/
END:VEVENT
END:VCALENDAR