BEGIN:VCALENDAR
VERSION:2.0
PRODID:-//Fahrschule Boost - ECPv6.10.0//NONSGML v1.0//EN
CALSCALE:GREGORIAN
METHOD:PUBLISH
X-ORIGINAL-URL:https://fahrschule-boost.de
X-WR-CALDESC:Veranstaltungen für Fahrschule Boost
REFRESH-INTERVAL;VALUE=DURATION:PT1H
X-Robots-Tag:noindex
X-PUBLISHED-TTL:PT1H
BEGIN:VTIMEZONE
TZID:Europe/Berlin
BEGIN:DAYLIGHT
TZOFFSETFROM:+0100
TZOFFSETTO:+0200
TZNAME:CEST
DTSTART:20260329T010000
END:DAYLIGHT
BEGIN:STANDARD
TZOFFSETFROM:+0200
TZOFFSETTO:+0100
TZNAME:CET
DTSTART:20261025T010000
END:STANDARD
END:VTIMEZONE
BEGIN:VEVENT
DTSTART;TZID=Europe/Berlin:20260113T180000
DTEND;TZID=Europe/Berlin:20260113T211500
DTSTAMP:20260425T171148
CREATED:20251120T095244Z
LAST-MODIFIED:20251120T095244Z
UID:8521-1768327200-1768338900@fahrschule-boost.de
SUMMARY:PKW Grundstoff Thema 3 + 4
DESCRIPTION:Thema 3: Rechtliche Rahmenbedingungen; Thema 4: Straßenverkehrssystem und Bahnübergänge
URL:https://fahrschule-boost.de/event/pkw-grundstoff-thema-3-4-3/
END:VEVENT
END:VCALENDAR