BEGIN:VCALENDAR
VERSION:2.0
PRODID:-//Fahrschule Boost - ECPv6.10.0//NONSGML v1.0//EN
CALSCALE:GREGORIAN
METHOD:PUBLISH
X-WR-CALNAME:Fahrschule Boost
X-ORIGINAL-URL:https://fahrschule-boost.de
X-WR-CALDESC:Veranstaltungen für Fahrschule Boost
REFRESH-INTERVAL;VALUE=DURATION:PT1H
X-Robots-Tag:noindex
X-PUBLISHED-TTL:PT1H
BEGIN:VTIMEZONE
TZID:Europe/Berlin
BEGIN:DAYLIGHT
TZOFFSETFROM:+0100
TZOFFSETTO:+0200
TZNAME:CEST
DTSTART:20260329T010000
END:DAYLIGHT
BEGIN:STANDARD
TZOFFSETFROM:+0200
TZOFFSETTO:+0100
TZNAME:CET
DTSTART:20261025T010000
END:STANDARD
END:VTIMEZONE
BEGIN:VEVENT
DTSTART;TZID=Europe/Berlin:20260225T180000
DTEND;TZID=Europe/Berlin:20260225T211500
DTSTAMP:20260425T142741
CREATED:20251120T095505Z
LAST-MODIFIED:20251120T095505Z
UID:8553-1772042400-1772054100@fahrschule-boost.de
SUMMARY:LKW Thema C7 + C8
DESCRIPTION:Thema C7: Wirkung von Kräften beim Fahren durch physikalische Gesetzmäßigkeiten; Thema C8: Vorschriften über Ausrüstungs-\, Beförderungs- und Sicherheitsbestimmungen
URL:https://fahrschule-boost.de/event/lkw-thema-c7-c8-2/
END:VEVENT
END:VCALENDAR