BEGIN:VCALENDAR
VERSION:2.0
PRODID:-//Fahrschule Boost - ECPv6.10.0//NONSGML v1.0//EN
CALSCALE:GREGORIAN
METHOD:PUBLISH
X-ORIGINAL-URL:https://fahrschule-boost.de
X-WR-CALDESC:Veranstaltungen für Fahrschule Boost
REFRESH-INTERVAL;VALUE=DURATION:PT1H
X-Robots-Tag:noindex
X-PUBLISHED-TTL:PT1H
BEGIN:VTIMEZONE
TZID:Europe/Berlin
BEGIN:DAYLIGHT
TZOFFSETFROM:+0100
TZOFFSETTO:+0200
TZNAME:CEST
DTSTART:20260329T010000
END:DAYLIGHT
BEGIN:STANDARD
TZOFFSETFROM:+0200
TZOFFSETTO:+0100
TZNAME:CET
DTSTART:20261025T010000
END:STANDARD
END:VTIMEZONE
BEGIN:VEVENT
DTSTART;TZID=Europe/Berlin:20260311T180000
DTEND;TZID=Europe/Berlin:20260311T211500
DTSTAMP:20260425T142410
CREATED:20251120T095330Z
LAST-MODIFIED:20251120T095330Z
UID:8536-1773252000-1773263700@fahrschule-boost.de
SUMMARY:PKW Grundstoff Thema 5 + 6
DESCRIPTION:Thema 5: Grundregel\, Vorfahrt und Verkehrsregelungen; Thema 6: Verkehrszeichen und Verkehrseinrichtungen
URL:https://fahrschule-boost.de/event/pkw-grundstoff-thema-5-6-5/
END:VEVENT
END:VCALENDAR