BEGIN:VCALENDAR
VERSION:2.0
PRODID:-//Fahrschule Boost - ECPv6.10.0//NONSGML v1.0//EN
CALSCALE:GREGORIAN
METHOD:PUBLISH
X-WR-CALNAME:Fahrschule Boost
X-ORIGINAL-URL:https://fahrschule-boost.de
X-WR-CALDESC:Veranstaltungen für Fahrschule Boost
REFRESH-INTERVAL;VALUE=DURATION:PT1H
X-Robots-Tag:noindex
X-PUBLISHED-TTL:PT1H
BEGIN:VTIMEZONE
TZID:Europe/Berlin
BEGIN:DAYLIGHT
TZOFFSETFROM:+0100
TZOFFSETTO:+0200
TZNAME:CEST
DTSTART:20260329T010000
END:DAYLIGHT
BEGIN:STANDARD
TZOFFSETFROM:+0200
TZOFFSETTO:+0100
TZNAME:CET
DTSTART:20261025T010000
END:STANDARD
END:VTIMEZONE
BEGIN:VEVENT
DTSTART;TZID=Europe/Berlin:20260314T100000
DTEND;TZID=Europe/Berlin:20260314T131500
DTSTAMP:20260425T142818
CREATED:20251120T095331Z
LAST-MODIFIED:20251120T095331Z
UID:8539-1773482400-1773494100@fahrschule-boost.de
SUMMARY:PKW Grundstoff Thema 11 + 12
DESCRIPTION:Thema 11: Verhalten in besonderen Situationen\, Folgen von Verstößen gegen Verkehrsvorschriften; Thema 12: Sicherheit durch Weiterlernen
URL:https://fahrschule-boost.de/event/pkw-grundstoff-thema-11-12-5/
END:VEVENT
END:VCALENDAR