BEGIN:VCALENDAR
VERSION:2.0
PRODID:-//Fahrschule Boost - ECPv6.10.0//NONSGML v1.0//EN
CALSCALE:GREGORIAN
METHOD:PUBLISH
X-WR-CALNAME:Fahrschule Boost
X-ORIGINAL-URL:https://fahrschule-boost.de
X-WR-CALDESC:Veranstaltungen für Fahrschule Boost
REFRESH-INTERVAL;VALUE=DURATION:PT1H
X-Robots-Tag:noindex
X-PUBLISHED-TTL:PT1H
BEGIN:VTIMEZONE
TZID:Europe/Berlin
BEGIN:DAYLIGHT
TZOFFSETFROM:+0100
TZOFFSETTO:+0200
TZNAME:CEST
DTSTART:20260329T010000
END:DAYLIGHT
BEGIN:STANDARD
TZOFFSETFROM:+0200
TZOFFSETTO:+0100
TZNAME:CET
DTSTART:20261025T010000
END:STANDARD
END:VTIMEZONE
BEGIN:VEVENT
DTSTART;TZID=Europe/Berlin:20260523T100000
DTEND;TZID=Europe/Berlin:20260523T131500
DTSTAMP:20260421T160614
CREATED:20251120T095510Z
LAST-MODIFIED:20251120T095510Z
UID:8557-1779530400-1779542100@fahrschule-boost.de
SUMMARY:LKW Thema C1 + C2
DESCRIPTION:Thema C1: Persönliche Voraussetzungen und Arbeitsplatz; Thema C2: Besondere Vorschriften aus der Straßenverkehrs-Ordnung/Transportvorschriften
URL:https://fahrschule-boost.de/event/lkw-thema-c1-c2-3/
END:VEVENT
BEGIN:VEVENT
DTSTART;TZID=Europe/Berlin:20260525T180000
DTEND;TZID=Europe/Berlin:20260525T211500
DTSTAMP:20260421T160614
CREATED:20251120T095510Z
LAST-MODIFIED:20251120T095510Z
UID:8558-1779732000-1779743700@fahrschule-boost.de
SUMMARY:LKW Thema C3 + C4
DESCRIPTION:Thema C3: Der Kraftstrang; Thema C4: Fahrwerk/Elektrische Anlage
URL:https://fahrschule-boost.de/event/lkw-thema-c3-c4-3/
END:VEVENT
BEGIN:VEVENT
DTSTART;TZID=Europe/Berlin:20260526T180000
DTEND;TZID=Europe/Berlin:20260526T211500
DTSTAMP:20260421T160614
CREATED:20251120T095510Z
LAST-MODIFIED:20251120T095510Z
UID:8559-1779818400-1779830100@fahrschule-boost.de
SUMMARY:LKW Thema C5 + C6
DESCRIPTION:Thema C5: Lkw-Bremsen; Thema C6: Lkw-Bremsen und Fahrzeuguntersuchungen; Geschwindigkeitsregler
URL:https://fahrschule-boost.de/event/lkw-thema-c5-c6-3/
END:VEVENT
BEGIN:VEVENT
DTSTART;TZID=Europe/Berlin:20260527T180000
DTEND;TZID=Europe/Berlin:20260527T211500
DTSTAMP:20260421T160614
CREATED:20251120T095524Z
LAST-MODIFIED:20251120T095524Z
UID:8560-1779904800-1779916500@fahrschule-boost.de
SUMMARY:LKW Thema C7 + C8
DESCRIPTION:Thema C7: Wirkung von Kräften beim Fahren durch physikalische Gesetzmäßigkeiten; Thema C8: Vorschriften über Ausrüstungs-\, Beförderungs- und Sicherheitsbestimmungen
URL:https://fahrschule-boost.de/event/lkw-thema-c7-c8-3/
END:VEVENT
BEGIN:VEVENT
DTSTART;TZID=Europe/Berlin:20260528T180000
DTEND;TZID=Europe/Berlin:20260528T211500
DTSTAMP:20260421T160614
CREATED:20251120T095524Z
LAST-MODIFIED:20251120T095524Z
UID:8561-1779991200-1780002900@fahrschule-boost.de
SUMMARY:LKW Thema C9 + C10
DESCRIPTION:Thema C9: Ladungssicherung/Abfahrtkontrolle; Thema C10: Wirtschaftliches und umweltschonendes Fahren; Streckenplanung\, Straßenkarten
URL:https://fahrschule-boost.de/event/lkw-thema-c9-c10-3/
END:VEVENT
BEGIN:VEVENT
DTSTART;TZID=Europe/Berlin:20260529T180000
DTEND;TZID=Europe/Berlin:20260529T211500
DTSTAMP:20260421T160614
CREATED:20251120T095524Z
LAST-MODIFIED:20251120T095524Z
UID:8562-1780077600-1780089300@fahrschule-boost.de
SUMMARY:LKW Thema CE1 + CE2
DESCRIPTION:Thema CE1: Zusammenstellen von Zügen; Thema CE2: Lastzugbremsen
URL:https://fahrschule-boost.de/event/lkw-thema-ce1-ce2-5/
END:VEVENT
BEGIN:VEVENT
DTSTART;TZID=Europe/Berlin:20260530T100000
DTEND;TZID=Europe/Berlin:20260530T131500
DTSTAMP:20260421T160614
CREATED:20251120T095525Z
LAST-MODIFIED:20251120T095525Z
UID:8563-1780135200-1780146900@fahrschule-boost.de
SUMMARY:LKW Thema CE3 + CE4
DESCRIPTION:Thema CE3: Lastzugbremsen; Thema CE4: Fahren mit Zügen
URL:https://fahrschule-boost.de/event/lkw-thema-ce3-ce4-4/
END:VEVENT
BEGIN:VEVENT
DTSTART;TZID=Europe/Berlin:20260815T100000
DTEND;TZID=Europe/Berlin:20260815T131500
DTSTAMP:20260421T160614
CREATED:20251120T095525Z
LAST-MODIFIED:20251120T095525Z
UID:8564-1786788000-1786799700@fahrschule-boost.de
SUMMARY:LKW Thema C1 + C2
DESCRIPTION:Thema C1: Persönliche Voraussetzungen und Arbeitsplatz; Thema C2: Besondere Vorschriften aus der Straßenverkehrs-Ordnung/Transportvorschriften
URL:https://fahrschule-boost.de/event/lkw-thema-c1-c2-5/
END:VEVENT
BEGIN:VEVENT
DTSTART;TZID=Europe/Berlin:20260817T180000
DTEND;TZID=Europe/Berlin:20260817T211500
DTSTAMP:20260421T160614
CREATED:20251120T095540Z
LAST-MODIFIED:20251120T095540Z
UID:8565-1786989600-1787001300@fahrschule-boost.de
SUMMARY:LKW Thema C3 + C4
DESCRIPTION:Thema C3: Der Kraftstrang; Thema C4: Fahrwerk/Elektrische Anlage
URL:https://fahrschule-boost.de/event/lkw-thema-c3-c4-5/
END:VEVENT
BEGIN:VEVENT
DTSTART;TZID=Europe/Berlin:20260818T180000
DTEND;TZID=Europe/Berlin:20260818T211500
DTSTAMP:20260421T160614
CREATED:20251120T095540Z
LAST-MODIFIED:20251120T095540Z
UID:8566-1787076000-1787087700@fahrschule-boost.de
SUMMARY:LKW Thema C5 + C6
DESCRIPTION:Thema C5: Lkw-Bremsen; Thema C6: Lkw-Bremsen und Fahrzeuguntersuchungen; Geschwindigkeitsregler
URL:https://fahrschule-boost.de/event/lkw-thema-c5-c6-5/
END:VEVENT
BEGIN:VEVENT
DTSTART;TZID=Europe/Berlin:20260819T180000
DTEND;TZID=Europe/Berlin:20260819T211500
DTSTAMP:20260421T160614
CREATED:20251120T095541Z
LAST-MODIFIED:20251120T095541Z
UID:8567-1787162400-1787174100@fahrschule-boost.de
SUMMARY:LKW Thema C7 + C8
DESCRIPTION:Thema C7: Wirkung von Kräften beim Fahren durch physikalische Gesetzmäßigkeiten; Thema C8: Vorschriften über Ausrüstungs-\, Beförderungs- und Sicherheitsbestimmungen
URL:https://fahrschule-boost.de/event/lkw-thema-c7-c8-5/
END:VEVENT
BEGIN:VEVENT
DTSTART;TZID=Europe/Berlin:20260820T180000
DTEND;TZID=Europe/Berlin:20260820T211500
DTSTAMP:20260421T160614
CREATED:20251120T095541Z
LAST-MODIFIED:20251120T095541Z
UID:8568-1787248800-1787260500@fahrschule-boost.de
SUMMARY:LKW Thema C9 + C10
DESCRIPTION:Thema C9: Ladungssicherung/Abfahrtkontrolle; Thema C10: Wirtschaftliches und umweltschonendes Fahren; Streckenplanung\, Straßenkarten
URL:https://fahrschule-boost.de/event/lkw-thema-c9-c10-5/
END:VEVENT
BEGIN:VEVENT
DTSTART;TZID=Europe/Berlin:20260821T180000
DTEND;TZID=Europe/Berlin:20260821T211500
DTSTAMP:20260421T160614
CREATED:20251120T095541Z
LAST-MODIFIED:20251120T095541Z
UID:8569-1787335200-1787346900@fahrschule-boost.de
SUMMARY:LKW Thema CE1 + CE2
DESCRIPTION:Thema CE1: Zusammenstellen von Zügen; Thema CE2: Lastzugbremsen
URL:https://fahrschule-boost.de/event/lkw-thema-ce1-ce2-6/
END:VEVENT
BEGIN:VEVENT
DTSTART;TZID=Europe/Berlin:20260822T100000
DTEND;TZID=Europe/Berlin:20260822T131500
DTSTAMP:20260421T160614
CREATED:20251120T095554Z
LAST-MODIFIED:20251120T095554Z
UID:8570-1787392800-1787404500@fahrschule-boost.de
SUMMARY:LKW Thema CE3 + CE4
DESCRIPTION:Thema CE3: Lastzugbremsen; Thema CE4: Fahren mit Zügen
URL:https://fahrschule-boost.de/event/lkw-thema-ce3-ce4-5/
END:VEVENT
BEGIN:VEVENT
DTSTART;TZID=Europe/Berlin:20261114T100000
DTEND;TZID=Europe/Berlin:20261114T131500
DTSTAMP:20260421T160614
CREATED:20251120T095554Z
LAST-MODIFIED:20251120T095554Z
UID:8571-1794650400-1794662100@fahrschule-boost.de
SUMMARY:LKW Thema C1 + C2
DESCRIPTION:Thema C1: Persönliche Voraussetzungen und Arbeitsplatz; Thema C2: Besondere Vorschriften aus der Straßenverkehrs-Ordnung/Transportvorschriften
URL:https://fahrschule-boost.de/event/lkw-thema-c1-c2-6/
END:VEVENT
BEGIN:VEVENT
DTSTART;TZID=Europe/Berlin:20261116T180000
DTEND;TZID=Europe/Berlin:20261116T211500
DTSTAMP:20260421T160614
CREATED:20251120T095555Z
LAST-MODIFIED:20251120T095555Z
UID:8572-1794852000-1794863700@fahrschule-boost.de
SUMMARY:LKW Thema C3 + C4
DESCRIPTION:Thema C3: Der Kraftstrang; Thema C4: Fahrwerk/Elektrische Anlage
URL:https://fahrschule-boost.de/event/lkw-thema-c3-c4-6/
END:VEVENT
BEGIN:VEVENT
DTSTART;TZID=Europe/Berlin:20261117T180000
DTEND;TZID=Europe/Berlin:20261117T211500
DTSTAMP:20260421T160614
CREATED:20251120T095555Z
LAST-MODIFIED:20251120T095555Z
UID:8573-1794938400-1794950100@fahrschule-boost.de
SUMMARY:LKW Thema C5 + C6
DESCRIPTION:Thema C5: Lkw-Bremsen; Thema C6: Lkw-Bremsen und Fahrzeuguntersuchungen; Geschwindigkeitsregler
URL:https://fahrschule-boost.de/event/lkw-thema-c5-c6-6/
END:VEVENT
BEGIN:VEVENT
DTSTART;TZID=Europe/Berlin:20261118T180000
DTEND;TZID=Europe/Berlin:20261118T211500
DTSTAMP:20260421T160614
CREATED:20251120T095555Z
LAST-MODIFIED:20251120T095555Z
UID:8574-1795024800-1795036500@fahrschule-boost.de
SUMMARY:LKW Thema C7 + C8
DESCRIPTION:Thema C7: Wirkung von Kräften beim Fahren durch physikalische Gesetzmäßigkeiten; Thema C8: Vorschriften über Ausrüstungs-\, Beförderungs- und Sicherheitsbestimmungen
URL:https://fahrschule-boost.de/event/lkw-thema-c7-c8-6/
END:VEVENT
BEGIN:VEVENT
DTSTART;TZID=Europe/Berlin:20261119T180000
DTEND;TZID=Europe/Berlin:20261119T211500
DTSTAMP:20260421T160614
CREATED:20251120T095609Z
LAST-MODIFIED:20251120T095609Z
UID:8575-1795111200-1795122900@fahrschule-boost.de
SUMMARY:LKW Thema C9 + C10
DESCRIPTION:Thema C9: Ladungssicherung/Abfahrtkontrolle; Thema C10: Wirtschaftliches und umweltschonendes Fahren; Streckenplanung\, Straßenkarten
URL:https://fahrschule-boost.de/event/lkw-thema-c9-c10-6/
END:VEVENT
BEGIN:VEVENT
DTSTART;TZID=Europe/Berlin:20261120T180000
DTEND;TZID=Europe/Berlin:20261120T211500
DTSTAMP:20260421T160614
CREATED:20251120T095609Z
LAST-MODIFIED:20251120T095609Z
UID:8576-1795197600-1795209300@fahrschule-boost.de
SUMMARY:LKW Thema CE1 + CE2
DESCRIPTION:Thema CE1: Zusammenstellen von Zügen; Thema CE2: Lastzugbremsen
URL:https://fahrschule-boost.de/event/lkw-thema-ce1-ce2-7/
END:VEVENT
BEGIN:VEVENT
DTSTART;TZID=Europe/Berlin:20261121T100000
DTEND;TZID=Europe/Berlin:20261121T131500
DTSTAMP:20260421T160614
CREATED:20251120T095609Z
LAST-MODIFIED:20251120T095609Z
UID:8577-1795255200-1795266900@fahrschule-boost.de
SUMMARY:LKW Thema CE3 + CE4
DESCRIPTION:Thema CE3: Lastzugbremsen; Thema CE4: Fahren mit Zügen
URL:https://fahrschule-boost.de/event/lkw-thema-ce3-ce4-6/
END:VEVENT
BEGIN:VEVENT
DTSTART;TZID=Europe/Berlin:20261127T180000
DTEND;TZID=Europe/Berlin:20261127T211500
DTSTAMP:20260421T160614
CREATED:20251120T095509Z
LAST-MODIFIED:20251120T095509Z
UID:8555-1795802400-1795814100@fahrschule-boost.de
SUMMARY:LKW Thema CE1 + CE2
DESCRIPTION:Thema CE1: Zusammenstellen von Zügen; Thema CE2: Lastzugbremsen
URL:https://fahrschule-boost.de/event/lkw-thema-ce1-ce2-2/
END:VEVENT
BEGIN:VEVENT
DTSTART;TZID=Europe/Berlin:20261128T100000
DTEND;TZID=Europe/Berlin:20261128T131500
DTSTAMP:20260421T160614
CREATED:20251120T095509Z
LAST-MODIFIED:20251120T095509Z
UID:8556-1795860000-1795871700@fahrschule-boost.de
SUMMARY:LKW Thema CE3 + CE4
DESCRIPTION:Thema CE3: Lastzugbremsen; Thema CE4: Fahren mit Zügen
URL:https://fahrschule-boost.de/event/lkw-thema-ce3-ce4-2/
END:VEVENT
BEGIN:VEVENT
DTSTART;TZID=Europe/Berlin:20261212T180000
DTEND;TZID=Europe/Berlin:20261212T211500
DTSTAMP:20260421T160614
CREATED:20251120T095347Z
LAST-MODIFIED:20251120T095347Z
UID:8541-1797098400-1797110100@fahrschule-boost.de
SUMMARY:PKW Grundstoff Thema 1 + 2
DESCRIPTION:Thema 1: Persönliche Voraussetzungen; Thema 2: Risikofaktor Mensch
URL:https://fahrschule-boost.de/event/pkw-grundstoff-thema-1-2-6/
END:VEVENT
BEGIN:VEVENT
DTSTART;TZID=Europe/Berlin:20261213T100000
DTEND;TZID=Europe/Berlin:20261213T131500
DTSTAMP:20260421T160614
CREATED:20251120T095347Z
LAST-MODIFIED:20251120T095347Z
UID:8542-1797156000-1797167700@fahrschule-boost.de
SUMMARY:PKW Grundstoff Thema 3 + 4
DESCRIPTION:Thema 3: Rechtliche Rahmenbedingungen; Thema 4: Straßenverkehrssystem und Bahnübergänge
URL:https://fahrschule-boost.de/event/pkw-grundstoff-thema-3-4-6/
END:VEVENT
BEGIN:VEVENT
DTSTART;TZID=Europe/Berlin:20261215T180000
DTEND;TZID=Europe/Berlin:20261215T211500
DTSTAMP:20260421T160614
CREATED:20251120T095348Z
LAST-MODIFIED:20251120T095348Z
UID:8543-1797357600-1797369300@fahrschule-boost.de
SUMMARY:PKW Grundstoff Thema 5 + 6
DESCRIPTION:Thema 5: Grundregel\, Vorfahrt und Verkehrsregelungen; Thema 6: Verkehrszeichen und Verkehrseinrichtungen
URL:https://fahrschule-boost.de/event/pkw-grundstoff-thema-5-6-6/
END:VEVENT
BEGIN:VEVENT
DTSTART;TZID=Europe/Berlin:20261216T180000
DTEND;TZID=Europe/Berlin:20261216T211500
DTSTAMP:20260421T160614
CREATED:20251120T095348Z
LAST-MODIFIED:20251120T095348Z
UID:8544-1797444000-1797455700@fahrschule-boost.de
SUMMARY:PKW Grundstoff Thema 7 + 8
DESCRIPTION:Thema 7: Teilnehmer am Straßenverkehr – Besonderheiten und Verhalten; Thema 8: Geschwindigkeit\, Abstand und umweltschonende Fahrweise
URL:https://fahrschule-boost.de/event/pkw-grundstoff-thema-7-8-6/
END:VEVENT
BEGIN:VEVENT
DTSTART;TZID=Europe/Berlin:20261217T180000
DTEND;TZID=Europe/Berlin:20261217T211500
DTSTAMP:20260421T160614
CREATED:20251120T095400Z
LAST-MODIFIED:20251120T095400Z
UID:8545-1797530400-1797542100@fahrschule-boost.de
SUMMARY:PKW Grundstoff Thema 9 + 10
DESCRIPTION:Thema 9: Verkehrsbeobachtung und Verkehrsverhalten bei Fahrmanövern; Thema 10: Ruhender Verkehr
URL:https://fahrschule-boost.de/event/pkw-grundstoff-thema-9-10-6/
END:VEVENT
BEGIN:VEVENT
DTSTART;TZID=Europe/Berlin:20261218T180000
DTEND;TZID=Europe/Berlin:20261218T211500
DTSTAMP:20260421T160614
CREATED:20251120T095401Z
LAST-MODIFIED:20251120T095401Z
UID:8546-1797616800-1797628500@fahrschule-boost.de
SUMMARY:PKW Grundstoff Thema 11 + 12
DESCRIPTION:Thema 11: Verhalten in besonderen Situationen\, Folgen von Verstößen gegen Verkehrsvorschriften; Thema 12: Sicherheit durch Weiterlernen
URL:https://fahrschule-boost.de/event/pkw-grundstoff-thema-11-12-6/
END:VEVENT
BEGIN:VEVENT
DTSTART;TZID=Europe/Berlin:20261219T180000
DTEND;TZID=Europe/Berlin:20261219T211500
DTSTAMP:20260421T160614
CREATED:20251120T095402Z
LAST-MODIFIED:20251120T095402Z
UID:8547-1797703200-1797714900@fahrschule-boost.de
SUMMARY:PKW Zusatzstoff Thema 13 + 14
DESCRIPTION:Thema 13: Technische Bedingungen\, Personen- und Güterbeförderung\, umweltbewusster Umgang mit Kraftfahrzeugen; Thema 14: Fahren mit Solokraftfahrzeugen und Zügen
URL:https://fahrschule-boost.de/event/pkw-zusatzstoff-thema-13-14-6/
END:VEVENT
END:VCALENDAR