BEGIN:VCALENDAR
VERSION:2.0
PRODID:-//Fahrschule Boost - ECPv6.10.0//NONSGML v1.0//EN
CALSCALE:GREGORIAN
METHOD:PUBLISH
X-ORIGINAL-URL:https://fahrschule-boost.de
X-WR-CALDESC:Veranstaltungen für Fahrschule Boost
REFRESH-INTERVAL;VALUE=DURATION:PT1H
X-Robots-Tag:noindex
X-PUBLISHED-TTL:PT1H
BEGIN:VTIMEZONE
TZID:Europe/Berlin
BEGIN:DAYLIGHT
TZOFFSETFROM:+0100
TZOFFSETTO:+0200
TZNAME:CEST
DTSTART:20260329T010000
END:DAYLIGHT
BEGIN:STANDARD
TZOFFSETFROM:+0200
TZOFFSETTO:+0100
TZNAME:CET
DTSTART:20261025T010000
END:STANDARD
END:VTIMEZONE
BEGIN:VEVENT
DTSTART;TZID=Europe/Berlin:20260112T180000
DTEND;TZID=Europe/Berlin:20260112T211500
DTSTAMP:20260425T155105
CREATED:20251120T095244Z
LAST-MODIFIED:20251120T095244Z
UID:8520-1768240800-1768252500@fahrschule-boost.de
SUMMARY:PKW Grundstoff Thema 1 + 2
DESCRIPTION:Thema 1: Persönliche Voraussetzungen; Thema 2: Risikofaktor Mensch
URL:https://fahrschule-boost.de/event/pkw-grundstoff-thema-1-2-3/
END:VEVENT
BEGIN:VEVENT
DTSTART;TZID=Europe/Berlin:20260113T180000
DTEND;TZID=Europe/Berlin:20260113T211500
DTSTAMP:20260425T155105
CREATED:20251120T095244Z
LAST-MODIFIED:20251120T095244Z
UID:8521-1768327200-1768338900@fahrschule-boost.de
SUMMARY:PKW Grundstoff Thema 3 + 4
DESCRIPTION:Thema 3: Rechtliche Rahmenbedingungen; Thema 4: Straßenverkehrssystem und Bahnübergänge
URL:https://fahrschule-boost.de/event/pkw-grundstoff-thema-3-4-3/
END:VEVENT
BEGIN:VEVENT
DTSTART;TZID=Europe/Berlin:20260114T180000
DTEND;TZID=Europe/Berlin:20260114T211500
DTSTAMP:20260425T155105
CREATED:20251120T095244Z
LAST-MODIFIED:20251120T095244Z
UID:8522-1768413600-1768425300@fahrschule-boost.de
SUMMARY:PKW Grundstoff Thema 5 + 6
DESCRIPTION:Thema 5: Grundregel\, Vorfahrt und Verkehrsregelungen; Thema 6: Verkehrszeichen und Verkehrseinrichtungen
URL:https://fahrschule-boost.de/event/pkw-grundstoff-thema-5-6-3/
END:VEVENT
BEGIN:VEVENT
DTSTART;TZID=Europe/Berlin:20260115T180000
DTEND;TZID=Europe/Berlin:20260115T211500
DTSTAMP:20260425T155105
CREATED:20251120T095245Z
LAST-MODIFIED:20251120T095245Z
UID:8523-1768500000-1768511700@fahrschule-boost.de
SUMMARY:PKW Grundstoff Thema 7 + 8
DESCRIPTION:Thema 7: Teilnehmer am Straßenverkehr – Besonderheiten und Verhalten; Thema 8: Geschwindigkeit\, Abstand und umweltschonende Fahrweise
URL:https://fahrschule-boost.de/event/pkw-grundstoff-thema-7-8-3/
END:VEVENT
BEGIN:VEVENT
DTSTART;TZID=Europe/Berlin:20260116T180000
DTEND;TZID=Europe/Berlin:20260116T211500
DTSTAMP:20260425T155105
CREATED:20251120T095245Z
LAST-MODIFIED:20251120T095245Z
UID:8524-1768586400-1768598100@fahrschule-boost.de
SUMMARY:PKW Grundstoff Thema 9 + 10
DESCRIPTION:Thema 9: Verkehrsbeobachtung und Verkehrsverhalten bei Fahrmanövern; Thema 10: Ruhender Verkehr
URL:https://fahrschule-boost.de/event/pkw-grundstoff-thema-9-10-3/
END:VEVENT
BEGIN:VEVENT
DTSTART;TZID=Europe/Berlin:20260117T100000
DTEND;TZID=Europe/Berlin:20260117T131500
DTSTAMP:20260425T155105
CREATED:20251120T095250Z
LAST-MODIFIED:20251120T095250Z
UID:8525-1768644000-1768655700@fahrschule-boost.de
SUMMARY:PKW Grundstoff Thema 11 + 12
DESCRIPTION:Thema 11: Verhalten in besonderen Situationen\, Folgen von Verstößen gegen Verkehrsvorschriften; Thema 12: Sicherheit durch Weiterlernen
URL:https://fahrschule-boost.de/event/pkw-grundstoff-thema-11-12-3/
END:VEVENT
BEGIN:VEVENT
DTSTART;TZID=Europe/Berlin:20260119T180000
DTEND;TZID=Europe/Berlin:20260119T211500
DTSTAMP:20260425T155105
CREATED:20251120T095250Z
LAST-MODIFIED:20251120T095250Z
UID:8526-1768845600-1768857300@fahrschule-boost.de
SUMMARY:PKW Zusatzstoff Thema 13 + 14
DESCRIPTION:Thema 13: Technische Bedingungen\, Personen- und Güterbeförderung\, umweltbewusster Umgang mit Kraftfahrzeugen; Thema 14: Fahren mit Solokraftfahrzeugen und Zügen
URL:https://fahrschule-boost.de/event/pkw-zusatzstoff-thema-13-14-3/
END:VEVENT
END:VCALENDAR